
BEGIN:VCALENDAR
VERSION:2.0
PRODID:-//EcoGest Lyon : Site Economie et Gestion de l&#039;Académie de Lyon - ECPv5.9.1//NONSGML v1.0//EN
CALSCALE:GREGORIAN
METHOD:PUBLISH
X-WR-CALNAME:EcoGest Lyon : Site Economie et Gestion de l&#039;Académie de Lyon
X-ORIGINAL-URL:https://ecogestion-legt.enseigne.ac-lyon.fr/legt
X-WR-CALDESC:évènements pour EcoGest Lyon : Site Economie et Gestion de l&#039;Académie de Lyon
BEGIN:VTIMEZONE
TZID:Europe/Paris
BEGIN:DAYLIGHT
TZOFFSETFROM:+0100
TZOFFSETTO:+0200
TZNAME:CEST
DTSTART:20210328T010000
END:DAYLIGHT
BEGIN:STANDARD
TZOFFSETFROM:+0200
TZOFFSETTO:+0100
TZNAME:CET
DTSTART:20211031T010000
END:STANDARD
END:VTIMEZONE
BEGIN:VEVENT
DTSTART;TZID=Europe/Paris:20211214T160000
DTEND;TZID=Europe/Paris:20211214T170000
DTSTAMP:20260422T100328
CREATED:20211205T160515Z
LAST-MODIFIED:20211205T161113Z
UID:15365-1639497600-1639501200@ecogestion-legt.enseigne.ac-lyon.fr
SUMMARY:Webinaire STMG sur le grand oral
DESCRIPTION:En distanciel\, cf.Message hebdo #13
URL:https://ecogestion-legt.enseigne.ac-lyon.fr/legt/evenement/webinaire-stmg-sur-le-grand-oral/
END:VEVENT
END:VCALENDAR