
BEGIN:VCALENDAR
VERSION:2.0
PRODID:-//EcoGest Lyon : Site Economie et Gestion de l&#039;Académie de Lyon - ECPv5.9.1//NONSGML v1.0//EN
CALSCALE:GREGORIAN
METHOD:PUBLISH
X-WR-CALNAME:EcoGest Lyon : Site Economie et Gestion de l&#039;Académie de Lyon
X-ORIGINAL-URL:https://ecogestion-legt.enseigne.ac-lyon.fr/legt
X-WR-CALDESC:évènements pour EcoGest Lyon : Site Economie et Gestion de l&#039;Académie de Lyon
BEGIN:VTIMEZONE
TZID:Europe/Paris
BEGIN:DAYLIGHT
TZOFFSETFROM:+0100
TZOFFSETTO:+0200
TZNAME:CEST
DTSTART:20220327T010000
END:DAYLIGHT
BEGIN:STANDARD
TZOFFSETFROM:+0200
TZOFFSETTO:+0100
TZNAME:CET
DTSTART:20221030T010000
END:STANDARD
END:VTIMEZONE
BEGIN:VEVENT
DTSTART;TZID=Europe/Paris:20220616T140000
DTEND;TZID=Europe/Paris:20220616T150000
DTSTAMP:20260421T174750
CREATED:20220411T062216Z
LAST-MODIFIED:20220411T062751Z
UID:16178-1655388000-1655391600@ecogestion-legt.enseigne.ac-lyon.fr
SUMMARY:webinaire à destination de tous les  professeurs d’économie et gestion sollicités pour être interrogateurs lors de l’épreuve du Grand Oral
DESCRIPTION:
URL:https://ecogestion-legt.enseigne.ac-lyon.fr/legt/evenement/webinaire-a-destination-de-tous-les-professeurs-deconomie-et-gestion-sollicites-pour-etre-interrogateurs-lors-de-lepreuve-du-grand-oral/
END:VEVENT
END:VCALENDAR