
BEGIN:VCALENDAR
VERSION:2.0
PRODID:-//EcoGest Lyon : Site Economie et Gestion de l&#039;Académie de Lyon - ECPv5.9.1//NONSGML v1.0//EN
CALSCALE:GREGORIAN
METHOD:PUBLISH
X-WR-CALNAME:EcoGest Lyon : Site Economie et Gestion de l&#039;Académie de Lyon
X-ORIGINAL-URL:https://ecogestion-legt.enseigne.ac-lyon.fr/legt
X-WR-CALDESC:évènements pour EcoGest Lyon : Site Economie et Gestion de l&#039;Académie de Lyon
BEGIN:VTIMEZONE
TZID:Europe/Paris
BEGIN:DAYLIGHT
TZOFFSETFROM:+0100
TZOFFSETTO:+0200
TZNAME:CEST
DTSTART:20200329T010000
END:DAYLIGHT
BEGIN:STANDARD
TZOFFSETFROM:+0200
TZOFFSETTO:+0100
TZNAME:CET
DTSTART:20201025T010000
END:STANDARD
END:VTIMEZONE
BEGIN:VEVENT
DTSTART;TZID=Europe/Paris:20200514T080000
DTEND;TZID=Europe/Paris:20200519T170000
DTSTAMP:20260420T081245
CREATED:20191112T205349Z
LAST-MODIFIED:20191112T205349Z
UID:9427-1589443200-1589907600@ecogestion-legt.enseigne.ac-lyon.fr
SUMMARY:SDG :passation de l’épreuve au sein des établissements :
DESCRIPTION:Le calendrier de mise en œuvre de l’épreuve de SDG \n-Passation de l’épreuve au sein des établissements : -du jeudi 14 au mardi 19 mai 2020-le mardi 20 mai est réservé pour les ponctuels  remontée des notes le 25 mai au plus tard
URL:https://ecogestion-legt.enseigne.ac-lyon.fr/legt/evenement/sdg-passation-de-lepreuve-au-sein-des-etablissements/
END:VEVENT
END:VCALENDAR