
BEGIN:VCALENDAR
VERSION:2.0
PRODID:-//EcoGest Lyon : Site Economie et Gestion de l&#039;Académie de Lyon - ECPv5.9.1//NONSGML v1.0//EN
CALSCALE:GREGORIAN
METHOD:PUBLISH
X-WR-CALNAME:EcoGest Lyon : Site Economie et Gestion de l&#039;Académie de Lyon
X-ORIGINAL-URL:https://ecogestion-legt.enseigne.ac-lyon.fr/legt
X-WR-CALDESC:évènements pour EcoGest Lyon : Site Economie et Gestion de l&#039;Académie de Lyon
BEGIN:VTIMEZONE
TZID:Europe/Paris
BEGIN:DAYLIGHT
TZOFFSETFROM:+0100
TZOFFSETTO:+0200
TZNAME:CEST
DTSTART:20230326T010000
END:DAYLIGHT
BEGIN:STANDARD
TZOFFSETFROM:+0200
TZOFFSETTO:+0100
TZNAME:CET
DTSTART:20231029T010000
END:STANDARD
END:VTIMEZONE
BEGIN:VEVENT
DTSTART;VALUE=DATE:20230904
DTEND;VALUE=DATE:20230905
DTSTAMP:20260421T120747
CREATED:20220830T095052Z
LAST-MODIFIED:20230712T132202Z
UID:16692-1693785600-1693871999@ecogestion-legt.enseigne.ac-lyon.fr
SUMMARY:Rentrée des élèves
DESCRIPTION:4 septembre 2023\n(la rentrée des enseignants est le 1 septembre 2023)
URL:https://ecogestion-legt.enseigne.ac-lyon.fr/legt/evenement/rentree-des-eleves-3/
END:VEVENT
END:VCALENDAR