
BEGIN:VCALENDAR
VERSION:2.0
PRODID:-//EcoGest Lyon : Site Economie et Gestion de l&#039;Académie de Lyon - ECPv5.9.1//NONSGML v1.0//EN
CALSCALE:GREGORIAN
METHOD:PUBLISH
X-WR-CALNAME:EcoGest Lyon : Site Economie et Gestion de l&#039;Académie de Lyon
X-ORIGINAL-URL:https://ecogestion-legt.enseigne.ac-lyon.fr/legt
X-WR-CALDESC:évènements pour EcoGest Lyon : Site Economie et Gestion de l&#039;Académie de Lyon
BEGIN:VTIMEZONE
TZID:Europe/Paris
BEGIN:DAYLIGHT
TZOFFSETFROM:+0100
TZOFFSETTO:+0200
TZNAME:CEST
DTSTART:20200329T010000
END:DAYLIGHT
BEGIN:STANDARD
TZOFFSETFROM:+0200
TZOFFSETTO:+0100
TZNAME:CET
DTSTART:20201025T010000
END:STANDARD
END:VTIMEZONE
BEGIN:VEVENT
DTSTART;TZID=Europe/Paris:20200616T160000
DTEND;TZID=Europe/Paris:20200616T180000
DTSTAMP:20260420T042016
CREATED:20200601T094037Z
LAST-MODIFIED:20200601T094037Z
UID:11544-1592323200-1592330400@ecogestion-legt.enseigne.ac-lyon.fr
SUMMARY:Rénovation Terminale STMG
DESCRIPTION:MSDGN
URL:https://ecogestion-legt.enseigne.ac-lyon.fr/legt/evenement/renovation-terminale-stmg-2/
END:VEVENT
END:VCALENDAR