
BEGIN:VCALENDAR
VERSION:2.0
PRODID:-//EcoGest Lyon : Site Economie et Gestion de l&#039;Académie de Lyon - ECPv5.9.1//NONSGML v1.0//EN
CALSCALE:GREGORIAN
METHOD:PUBLISH
X-WR-CALNAME:EcoGest Lyon : Site Economie et Gestion de l&#039;Académie de Lyon
X-ORIGINAL-URL:https://ecogestion-legt.enseigne.ac-lyon.fr/legt
X-WR-CALDESC:évènements pour EcoGest Lyon : Site Economie et Gestion de l&#039;Académie de Lyon
BEGIN:VTIMEZONE
TZID:Europe/Paris
BEGIN:DAYLIGHT
TZOFFSETFROM:+0100
TZOFFSETTO:+0200
TZNAME:CEST
DTSTART:20220327T010000
END:DAYLIGHT
BEGIN:STANDARD
TZOFFSETFROM:+0200
TZOFFSETTO:+0100
TZNAME:CET
DTSTART:20221030T010000
END:STANDARD
END:VTIMEZONE
BEGIN:VEVENT
DTSTART;VALUE=DATE:20220701
DTEND;VALUE=DATE:20220702
DTSTAMP:20260421T174400
CREATED:20211004T071654Z
LAST-MODIFIED:20211004T071702Z
UID:14969-1656633600-1656719999@ecogestion-legt.enseigne.ac-lyon.fr
SUMMARY:Le Calendrier de terminale 2021-2022
DESCRIPTION:  \nÉcogest Lyon : Le calendrier de l’année de terminale 2021-2022
URL:https://ecogestion-legt.enseigne.ac-lyon.fr/legt/evenement/le-calendrier-de-terminale-2021-2022-7/
END:VEVENT
END:VCALENDAR