
BEGIN:VCALENDAR
VERSION:2.0
PRODID:-//EcoGest Lyon : Site Economie et Gestion de l&#039;Académie de Lyon - ECPv5.9.1//NONSGML v1.0//EN
CALSCALE:GREGORIAN
METHOD:PUBLISH
X-WR-CALNAME:EcoGest Lyon : Site Economie et Gestion de l&#039;Académie de Lyon
X-ORIGINAL-URL:https://ecogestion-legt.enseigne.ac-lyon.fr/legt
X-WR-CALDESC:évènements pour EcoGest Lyon : Site Economie et Gestion de l&#039;Académie de Lyon
BEGIN:VTIMEZONE
TZID:Europe/Paris
BEGIN:DAYLIGHT
TZOFFSETFROM:+0100
TZOFFSETTO:+0200
TZNAME:CEST
DTSTART:20210328T010000
END:DAYLIGHT
BEGIN:STANDARD
TZOFFSETFROM:+0200
TZOFFSETTO:+0100
TZNAME:CET
DTSTART:20211031T010000
END:STANDARD
END:VTIMEZONE
BEGIN:VEVENT
DTSTART;VALUE=DATE:20210525
DTEND;VALUE=DATE:20210527
DTSTAMP:20260423T004129
CREATED:20210111T114347Z
LAST-MODIFIED:20210517T083420Z
UID:13003-1621900800-1622073599@ecogestion-legt.enseigne.ac-lyon.fr
SUMMARY:Journée de l'Innovation Pédagogique
DESCRIPTION:Présentation des expérimentations ayant participé aux TRAAM
URL:https://ecogestion-legt.enseigne.ac-lyon.fr/legt/evenement/journee-de-linnovation-pedagogique/
END:VEVENT
END:VCALENDAR