
BEGIN:VCALENDAR
VERSION:2.0
PRODID:-//EcoGest Lyon : Site Economie et Gestion de l&#039;Académie de Lyon - ECPv5.9.1//NONSGML v1.0//EN
CALSCALE:GREGORIAN
METHOD:PUBLISH
X-WR-CALNAME:EcoGest Lyon : Site Economie et Gestion de l&#039;Académie de Lyon
X-ORIGINAL-URL:https://ecogestion-legt.enseigne.ac-lyon.fr/legt
X-WR-CALDESC:évènements pour EcoGest Lyon : Site Economie et Gestion de l&#039;Académie de Lyon
BEGIN:VTIMEZONE
TZID:Europe/Paris
BEGIN:DAYLIGHT
TZOFFSETFROM:+0100
TZOFFSETTO:+0200
TZNAME:CEST
DTSTART:20200329T010000
END:DAYLIGHT
BEGIN:STANDARD
TZOFFSETFROM:+0200
TZOFFSETTO:+0100
TZNAME:CET
DTSTART:20201025T010000
END:STANDARD
END:VTIMEZONE
BEGIN:VEVENT
DTSTART;TZID=Europe/Paris:20201105T090000
DTEND;TZID=Europe/Paris:20201105T170000
DTSTAMP:20260419T225831
CREATED:20201014T093414Z
LAST-MODIFIED:20201014T093414Z
UID:12435-1604566800-1604595600@ecogestion-legt.enseigne.ac-lyon.fr
SUMMARY:Formation professeurs néo contractuels
DESCRIPTION:5/11/20 Formation professeurs néo contractuels Lycée Jacques Brel de 9 à 17 h \n 
URL:https://ecogestion-legt.enseigne.ac-lyon.fr/legt/evenement/formation-professeurs-neo-contractuels/
END:VEVENT
END:VCALENDAR