
BEGIN:VCALENDAR
VERSION:2.0
PRODID:-//EcoGest Lyon : Site Economie et Gestion de l&#039;Académie de Lyon - ECPv5.9.1//NONSGML v1.0//EN
CALSCALE:GREGORIAN
METHOD:PUBLISH
X-WR-CALNAME:EcoGest Lyon : Site Economie et Gestion de l&#039;Académie de Lyon
X-ORIGINAL-URL:https://ecogestion-legt.enseigne.ac-lyon.fr/legt
X-WR-CALDESC:évènements pour EcoGest Lyon : Site Economie et Gestion de l&#039;Académie de Lyon
BEGIN:VTIMEZONE
TZID:Europe/Paris
BEGIN:DAYLIGHT
TZOFFSETFROM:+0100
TZOFFSETTO:+0200
TZNAME:CEST
DTSTART:20200329T010000
END:DAYLIGHT
BEGIN:STANDARD
TZOFFSETFROM:+0200
TZOFFSETTO:+0100
TZNAME:CET
DTSTART:20201025T010000
END:STANDARD
END:VTIMEZONE
BEGIN:VEVENT
DTSTART;TZID=Europe/Paris:20201127T090000
DTEND;TZID=Europe/Paris:20201127T170000
DTSTAMP:20260420T042141
CREATED:20201014T093540Z
LAST-MODIFIED:20201014T093540Z
UID:12439-1606467600-1606496400@ecogestion-legt.enseigne.ac-lyon.fr
SUMMARY:Formation PGI Débutants et confirmés
DESCRIPTION:27/11 Formation PGI Débutants et confirmés Lycée Martinière Duchère de 9 à 17h
URL:https://ecogestion-legt.enseigne.ac-lyon.fr/legt/evenement/formation-pgi-debutants-et-confirmes/
END:VEVENT
END:VCALENDAR