
BEGIN:VCALENDAR
VERSION:2.0
PRODID:-//EcoGest Lyon : Site Economie et Gestion de l&#039;Académie de Lyon - ECPv5.9.1//NONSGML v1.0//EN
CALSCALE:GREGORIAN
METHOD:PUBLISH
X-WR-CALNAME:EcoGest Lyon : Site Economie et Gestion de l&#039;Académie de Lyon
X-ORIGINAL-URL:https://ecogestion-legt.enseigne.ac-lyon.fr/legt
X-WR-CALDESC:évènements pour EcoGest Lyon : Site Economie et Gestion de l&#039;Académie de Lyon
BEGIN:VTIMEZONE
TZID:Europe/Paris
BEGIN:DAYLIGHT
TZOFFSETFROM:+0100
TZOFFSETTO:+0200
TZNAME:CEST
DTSTART:20220327T010000
END:DAYLIGHT
BEGIN:STANDARD
TZOFFSETFROM:+0200
TZOFFSETTO:+0100
TZNAME:CET
DTSTART:20221030T010000
END:STANDARD
END:VTIMEZONE
BEGIN:VEVENT
DTSTART;TZID=Europe/Paris:20220511T140000
DTEND;TZID=Europe/Paris:20220511T180000
DTSTAMP:20260422T003618
CREATED:20220307T092042Z
LAST-MODIFIED:20220307T092117Z
UID:15888-1652277600-1652292000@ecogestion-legt.enseigne.ac-lyon.fr
SUMMARY:Bac : Epreuve de Management\, sciences de gestion et numérique
DESCRIPTION:L’épreuve de Management\, sciences de gestion et numérique aura lieu le mercredi 11 mai de 14 à 18 heures. \n 
URL:https://ecogestion-legt.enseigne.ac-lyon.fr/legt/evenement/bac-epreuve-de-management-sciences-de-gestion-et-numerique/
END:VEVENT
END:VCALENDAR